BEGIN:VCALENDAR
VERSION:2.0
PRODID:-//hacksw/handcal//NONSGML v1.0//EN
BEGIN:VEVENT
SUMMARY:Departementale 4-7 ph2 J4
UID:ad6e04cd-5e30-41ea-a0a2-6f51db399739
DTSTART:20260327T190000Z
DTEND:20260327T224500Z
LOCATION:Localisation   
CATEGORIES:Sportif
STATUS:
URL;VALUE=URI:https://saintmarceltt.sportsregions.fr/evenements/2026/03/27/departementale-4-7-ph2-j4-2431423
END:VEVENT
END:VCALENDAR
