BEGIN:VCALENDAR
VERSION:2.0
PRODID:-//hacksw/handcal//NONSGML v1.0//EN
BEGIN:VEVENT
SUMMARY:Coupe Jacky Toufflet D 1/8finales
UID:1048340b-1377-4e44-9494-a984162bfd19
DTSTART:20260403T180000Z
DTEND:20260403T213000Z
LOCATION:Localisation   Le Neubourg
CATEGORIES:Sportif
STATUS:
URL;VALUE=URI:https://saintmarceltt.sportsregions.fr/evenements/2026/04/03/coupe-jacky-toufflet-d-18finales-2437132
END:VEVENT
END:VCALENDAR
