BEGIN:VCALENDAR
VERSION:2.0
PRODID:-//hacksw/handcal//NONSGML v1.0//EN
BEGIN:VEVENT
SUMMARY:Regionale 3-1 j5 ph2
UID:51ebf69c-c8dd-47b4-86e3-e7c95508f1f8
DTSTART:20260412T070000Z
DTEND:20260412T110000Z
LOCATION:Localisation 1448 route de Neufchatel 76230 Isneauville
CATEGORIES:Sportif
STATUS:
URL;VALUE=URI:https://saintmarceltt.sportsregions.fr/evenements/2026/04/12/regionale-3-1-j5-ph2-2437610
END:VEVENT
END:VCALENDAR
